BEGIN:VCALENDAR
VERSION:2.0
PRODID:-//ChamberMaster//Event Calendar 2.0//EN
METHOD:PUBLISH
X-PUBLISHED-TTL:P3D
REFRESH-INTERVAL:P3D
CALSCALE:GREGORIAN
BEGIN:VEVENT
DTSTART:20181023T213000Z
DTEND:20181023T223000Z
X-MICROSOFT-CDO-ALLDAYEVENT:FALSE
SUMMARY:Fall into Nutrition
DESCRIPTION:Cooking instruction and demonstration led by McLaren Northern Michigan dietitians. Come learn how tasty\, healthy\, and fresh the fall season can be. Participants will taste dishes prepared and leave with recipes to recreate at home. Registration is required and seating is limited.
X-ALT-DESC;FMTTYPE=text/html:Cooking instruction and demonstration led by McLaren Northern Michigan dietitians. Come learn how tasty\, healthy\, and fresh the fall season can be. Participants will taste dishes prepared and leave with recipes to recreate at home. Registration is required and seating is limited.
LOCATION:John and Marnie Demmer Wellness Pavilion and Dialysis Center
UID:e.2595.3387
SEQUENCE:3
DTSTAMP:20260421T043705Z
URL:http://harborspringschambermi.chambermaster.com/events/details/fall-into-nutrition-3387
END:VEVENT

END:VCALENDAR
